BEGIN:VCALENDAR
VERSION:2.0
PRODID:-//Visit Rockton - ECPv6.15.17.1//NONSGML v1.0//EN
CALSCALE:GREGORIAN
METHOD:PUBLISH
X-ORIGINAL-URL:https://www.downtownrockton.com
X-WR-CALDESC:Events for Visit Rockton
REFRESH-INTERVAL;VALUE=DURATION:PT1H
X-Robots-Tag:noindex
X-PUBLISHED-TTL:PT1H
BEGIN:VTIMEZONE
TZID:America/Chicago
BEGIN:DAYLIGHT
TZOFFSETFROM:-0600
TZOFFSETTO:-0500
TZNAME:CDT
DTSTART:20250309T080000
END:DAYLIGHT
BEGIN:STANDARD
TZOFFSETFROM:-0500
TZOFFSETTO:-0600
TZNAME:CST
DTSTART:20251102T070000
END:STANDARD
BEGIN:DAYLIGHT
TZOFFSETFROM:-0600
TZOFFSETTO:-0500
TZNAME:CDT
DTSTART:20260308T080000
END:DAYLIGHT
BEGIN:STANDARD
TZOFFSETFROM:-0500
TZOFFSETTO:-0600
TZNAME:CST
DTSTART:20261101T070000
END:STANDARD
BEGIN:DAYLIGHT
TZOFFSETFROM:-0600
TZOFFSETTO:-0500
TZNAME:CDT
DTSTART:20270314T080000
END:DAYLIGHT
BEGIN:STANDARD
TZOFFSETFROM:-0500
TZOFFSETTO:-0600
TZNAME:CST
DTSTART:20271107T070000
END:STANDARD
END:VTIMEZONE
BEGIN:VEVENT
DTSTART;TZID=America/Chicago:20260603T170000
DTEND;TZID=America/Chicago:20260603T200000
DTSTAMP:20260422T122342
CREATED:20260223T194235Z
LAST-MODIFIED:20260223T201404Z
UID:2819-1780506000-1780516800@www.downtownrockton.com
SUMMARY:Rockton River Market
DESCRIPTION:Join Us This Summer!
URL:https://www.downtownrockton.com/event/rockton-river-market-40/
LOCATION:Settlers Park\, 150 E. Hawick St.\, Rockton\, IL\, 61072\, United States
CATEGORIES:Rockton River Market
ATTACH;FMTTYPE=image/jpeg:https://www.downtownrockton.com/wp-content/uploads/2026/02/River-Market-FB-profile-pic.jpg
ORGANIZER;CN="Downtown Rockton":MAILTO:downtownrockton.com
END:VEVENT
BEGIN:VEVENT
DTSTART;TZID=America/Chicago:20260610T170000
DTEND;TZID=America/Chicago:20260610T200000
DTSTAMP:20260422T122342
CREATED:20260223T194954Z
LAST-MODIFIED:20260223T201333Z
UID:2821-1781110800-1781121600@www.downtownrockton.com
SUMMARY:Rockton River Market
DESCRIPTION:Join Us This Summer!
URL:https://www.downtownrockton.com/event/rockton-river-market-41/
LOCATION:Settlers Park\, 150 E. Hawick St.\, Rockton\, IL\, 61072\, United States
CATEGORIES:Rockton River Market
ATTACH;FMTTYPE=image/jpeg:https://www.downtownrockton.com/wp-content/uploads/2026/02/River-Market-FB-profile-pic.jpg
ORGANIZER;CN="Downtown Rockton":MAILTO:downtownrockton.com
END:VEVENT
BEGIN:VEVENT
DTSTART;VALUE=DATE:20260618
DTEND;VALUE=DATE:20260622
DTSTAMP:20260422T122342
CREATED:20260223T195601Z
LAST-MODIFIED:20260223T200612Z
UID:2823-1781740800-1782086399@www.downtownrockton.com
SUMMARY:Old Settlers Days
DESCRIPTION:Join Us This Summer!
URL:https://www.downtownrockton.com/event/old-settlers-days-4/
LOCATION:Settlers Park\, 150 E. Hawick St.\, Rockton\, IL\, 61072\, United States
CATEGORIES:Featured
END:VEVENT
BEGIN:VEVENT
DTSTART;TZID=America/Chicago:20260624T170000
DTEND;TZID=America/Chicago:20260624T200000
DTSTAMP:20260422T122342
CREATED:20260223T200724Z
LAST-MODIFIED:20260223T201300Z
UID:2826-1782320400-1782331200@www.downtownrockton.com
SUMMARY:Rockton River Market
DESCRIPTION:Join Us This Summer!
URL:https://www.downtownrockton.com/event/rockton-river-market-42/
LOCATION:Settlers Park\, 150 E. Hawick St.\, Rockton\, IL\, 61072\, United States
CATEGORIES:Rockton River Market
ATTACH;FMTTYPE=image/jpeg:https://www.downtownrockton.com/wp-content/uploads/2026/02/River-Market-FB-profile-pic.jpg
ORGANIZER;CN="Downtown Rockton":MAILTO:downtownrockton.com
END:VEVENT
END:VCALENDAR